BEGIN:VCALENDAR
VERSION:2.0
PRODID:-//wp-events-plugin.com//7.2.3.1//EN
TZID:Europe/Amsterdam
X-WR-TIMEZONE:Europe/Amsterdam
BEGIN:VEVENT
UID:276@apeldoornpadel.nl
DTSTART;TZID=Europe/Amsterdam:20260424T213000
DTEND;TZID=Europe/Amsterdam:20260424T230000
DTSTAMP:20260303T104624Z
URL:https://apeldoornpadel.nl/events/glow-in-the-dark-tossen/
SUMMARY:Glow in the Dark tossen
DESCRIPTION:Tossen maar dan anders: Glow in the Dark!\nZie het bericht op d
 e voorpagina over Glow in the Dark.\n\nDeelname € 20\,00 per persoon (90
  minuten)
CATEGORIES:Tossen
END:VEVENT
BEGIN:VTIMEZONE
TZID:Europe/Amsterdam
X-LIC-LOCATION:Europe/Amsterdam
BEGIN:DAYLIGHT
DTSTART:20260329T030000
TZOFFSETFROM:+0100
TZOFFSETTO:+0200
TZNAME:CEST
END:DAYLIGHT
END:VTIMEZONE
END:VCALENDAR